BEGIN:VCALENDAR
VERSION:2.0
PRODID:-//Centro de Ingeniería Genética y Biotecnología - ECPv6.15.20//NONSGML v1.0//EN
CALSCALE:GREGORIAN
METHOD:PUBLISH
X-WR-CALNAME:Centro de Ingeniería Genética y Biotecnología
X-ORIGINAL-URL:https://www.cigb.edu.cu
X-WR-CALDESC:Eventos para Centro de Ingeniería Genética y Biotecnología
REFRESH-INTERVAL;VALUE=DURATION:PT1H
X-Robots-Tag:noindex
X-PUBLISHED-TTL:PT1H
BEGIN:VTIMEZONE
TZID:UTC
BEGIN:STANDARD
TZOFFSETFROM:+0000
TZOFFSETTO:+0000
TZNAME:UTC
DTSTART:20250101T000000
END:STANDARD
END:VTIMEZONE
BEGIN:VEVENT
DTSTART;TZID=UTC:20260426T080000
DTEND;TZID=UTC:20260430T170000
DTSTAMP:20260424T052437
CREATED:20231019T131721Z
LAST-MODIFIED:20260219T183000Z
UID:10578-1777190400-1777568400@www.cigb.edu.cu
SUMMARY:BioAqua
DESCRIPTION:Anuncio de postposicion!\n\n\n\n\n\n\nCarta del Comité Organizador de BioAqua2026 para posponer a 2027\n\n\n\nEstimados colegas y amigos: \nEl Comité Organizador del Congreso Internacional BioAqua 2026: De la Investigación Básica a la Ciencia Aplicada les informa que hemos decidido posponerlo para el próximo año\, 2027. La razón principal está asociada al hecho de que el Presidente de los Estados Unidos de América\, Donald Trump\, firmó un decreto el pasado mes de enero que endurece el bloqueo económico contra nuestro país\, sancionando a empresas y países que suministren combustible a Cuba\, lo que ha provocado hasta el momento una crisis energética y de combustible\, obligándonos a posponer nuestro evento. Estamos convencidos de que con el apoyo internacional a nuestro país y el esfuerzo de nuestro pueblo\, superaremos esta situación y volveremos a la normalidad\, lo que nos permitirá realizar el congreso en 2027. Agradecemos profundamente su disposición a participar en nuestro congreso\, y confiamos en que nos veremos el próximo año y que pronto los invitaremos a un seminario web para celebrarlo en abril próximo. Actualmente\, nuestra prioridad es continuar e incrementar la colaboración científica con ustedes y sus instituciones\, por lo que los invitamos a explorar conjuntamente nuevas formas de colaborar y buscar financiamiento para proyectos conjuntos\, convencidos de que continuaremos haciendo ciencia que redunde en beneficios para nuestras sociedades y nuestros pueblos. Gracias anticipadas por su apoyo y ayuda. \nReciban un cordial saludo\, \nMario Pablo Estrada Garcia\, PhD; PresidenteYamila Carpio Gonzalez\, PhD; Secretaria Científica \n\n\n\nDesde Abril 26 a Abril 30\, 2026  \nSede: Varadero (los detalles estarán disponibles próximamente)  \nOrganizado por: Centro de Ingeniería Genética y Biotecnología \nEl Centro de Ingeniería Genética y Biotecnología de La Habana (CIGB) y el Comité Organizador tienen el placer de anunciar la cuarta edición del encuentro internacional “BioAqua2026: de la investigación básica a la ciencia aplicada”. En esta conferencia se presentarán los resultados más recientes en investigación básica de organismos acuáticos y biotecnología aplicada a la Acuicultura. Ediciones anteriores fueron muy fructíferas en términos de intercambios científicos y oportunidades para establecer redes de investigación globales.   \nLos temas principales serán:\n\nInmunología de peces y crustáceos\nVacunas e inmunoestimulantes para la acuicultura\nDietas funcionales\nInteracciones huésped-patógeno\nGenómica funcional\nDiagnóstico\nEvolución de la respuesta inmunitaria y funciones neuroendocrinas\nRegulación neuroendocrina del crecimiento\nReproducción\nResistencia antimicrobiana y nuevas terapias AMR\n\n\nPatrocinio\n \n \nComo patrocinador\, tendrá acceso a la comunidad científica mundial de primer nivel que trabaja en estos temas y será una muy buena oportunidad para promover su organización en este marco con el objetivo de que los asistentes conozcan más sobre sus negocios específicos. \n \n \nEl Comité Organizador de Bioaqua2026 estará sumamente agradecido de que usted\, como patrocinador\, tome de su tiempo y presupuesto para ayudar a que más personas participen en esta Conferencia optando por cualquiera de los siguientes Paquetes de Patrocinio: \n \n \nPaquete Bronce:\n \n \n(2000 USD): 1 persona libre de tarifa de inscripción y alojamiento para Bioaqua2026 y la oportunidad de incluir una conferencia dentro del programa científico. El nombre y logo de su organización se mostrará en todas las promociones de la Conferencia. \n \n \nPaquete Plata: \n \n \n(3000 USD): 2 personas libres de tarifa de inscripción y un alojamiento para Bioaqua2026 y la oportunidad de incluir una conferencia dentro del programa científico. El nombre y logo de su organización se mostrará en todas las promociones de la Conferencia. El comité organizador puede gestionar un espacio limitado para mostrar equipos especiales e información de su organización. \n \n \nPaquete Oro:\n \n \n(4000 USD): 4 personas libres de tarifa de inscripción para Bioaqua2026 y la oportunidad de una conferencia plenaria. El nombre y logo de su organización se mostrará en todas las promociones de la Conferencia. El comité organizador puede gestionar un espacio limitado para mostrar equipos especiales e información de su organización. \n \n \nPaquete Platino:\n \n \nOfrezca el pago de cualquiera de las actividades sociales de la Conferencia TTP11\, como fiesta de bienvenida\, cena de gala\, actividad cultural\, excursión\, entre otras\, y la oportunidad de organizar un taller dentro del programa científico. El nombre y logo de su organización se mostrará en todas las promociones de la Conferencia. El comité organizador puede gestionar un espacio limitado para mostrar equipos especiales e información de su organización.
URL:/event/bioaqua-es/
CATEGORIES:Congreso Internacional
ATTACH;FMTTYPE=image/png:/wp-content/uploads/2023/10/bioaqua_image_es.png
ORGANIZER;CN="Dr. Mario Pablo Estrada Garc%C3%ADa":MAILTO:mario.pablo@cigb.edu.cu
END:VEVENT
BEGIN:VEVENT
DTSTART;VALUE=DATE:20270523
DTEND;VALUE=DATE:20270528
DTSTAMP:20260424T052437
CREATED:20250818T151454Z
LAST-MODIFIED:20250818T201335Z
UID:14731-1811030400-1811462399@www.cigb.edu.cu
SUMMARY:BioNCiD 2027
DESCRIPTION:INVITACIÓN\nEn nombre del Comité Organizador\, nos complace invitarle a registrarse y participar en el V Congreso Internacional de Desarrollo Biofarmacéutico No Clínico\, BioNCiD 2027\, organizado por el Centro de Ingeniería Genética y Biotecnología (CIGB) de La Habana\, Cuba\, que se celebrará del 23 al 27 de mayo de 2027 en Varadero\, Cuba. \nBioNCiD\, un foro internacional de primer nivel dedicado al avance del desarrollo no clínico en ciencias biofarmacéuticas\, reunirá a destacados expertos\, investigadores y profesionales de la industria de todo el mundo para compartir los últimos avances científicos\, actualizaciones regulatorias y enfoques innovadores. \nEn BioNCiD 2027\, tendrá la oportunidad de interactuar con especialistas de diversos países\, presentar sus investigaciones y proyectos\, establecer contactos con colegas y líderes de la industria\, y participar en debates adaptados a los desafíos y tendencias actuales en el desarrollo no clínico. \nLa edición anterior\, BioNCiD 2025\, reunió a aproximadamente 100 especialistas altamente cualificados en diversas áreas del desarrollo preclínico de 10 países\, entre ellos Cuba\, Canadá\, México\, Estados Unidos\, España\, Italia\, Vietnam\, Rusia\, Brasil y Colombia. \nPara esta próxima edición\, uno de nuestros objetivos es aumentar el número de participantes y la diversidad de países. \nBioNCiD 2027 abordará los siguientes temas: \n\nProgramas de desarrollo preclínico de fármacos y productos biofarmacéuticos\nAvances en farmacocinética y toxicología\nTendencias en la evaluación de interacciones farmacológicas\, fármacos-biotecnología y microbiota\nActualización del marco regulatorio preclínico\nAplicaciones de la inteligencia artificial en el desarrollo preclínico de productos biofarmacéuticos\nCapacitación del personal y acreditación de centros\nComité Institucional para el Cuidado y Uso de Animales (IACUC) y su papel en el desarrollo preclínico.\nBienestar animal y humano: gestión del comportamiento e implementación de una cultura del cuidado según los requisitos regulatorios no clínicos y la aplicación de las 3R.\nTecnologías de monitoreo de jaulas domésticas: mejora de la traducción no clínica a la clínica.\nModelos animales: desarrollo y uso\, desafíos y perspectivas.\nPez cebra: La estrella emergente de la experimentación animal.\nMétodos alternativos al uso de animales.\n\nEn esta 5.ª edición\, BioNCiD organizará un simposio sobre OMICS y Estudios No Clínicos\, que abordará temas relacionados con la industria biotecnológica y el uso de la espectrometría de masas para el descubrimiento y desarrollo de fármacos. \nIncluye: métodos de preparación de muestras\, caracterización de péptidos/proteínas/conjugados\, reticulación\, estudios farmacocinéticos\, identificación de biomarcadores\, tecnologías para la generación de datos OMICS\, procesamiento de datos de espectros de masas y motores de búsqueda en bases de datos\, proteómica computacional\, análisis de redes funcionales\, análisis integrativo de datos OMICS y desarrollo de software bioinformático basado en biología de sistemas. \nFecha límite para envío de resúmenes: 30 de abril de 2027. \nFecha límite de aceptación: 30 de abril de 2027. \nEsperamos sinceramente que participen y aporten sus valiosas experiencias y conocimientos al desarrollo de este campo científico. \nAtentamente\, \nJorge Castro Velazco\, PhD \nPresidente del Congreso \nCorreo electrónico: jorge.castro@cigb.edu.cu \nCorreo electrónico del Congreso: BioNCiD@cigb.edu.cu
URL:/event/bioncid-2027-2/
LOCATION:Varadero\, Cuba
CATEGORIES:Congreso Internacional
ATTACH;FMTTYPE=image/png:/wp-content/uploads/2025/08/LOGO-para-extranet-07-1-scaled.png
ORGANIZER;CN="Jorge Castro Velzaco%2C PhD.":MAILTO:jorge.castro@cigb.edu.cu
END:VEVENT
END:VCALENDAR