BEGIN:VCALENDAR
VERSION:2.0
PRODID:-//CIGB - ECPv5.5.0.1//NONSGML v1.0//EN
CALSCALE:GREGORIAN
METHOD:PUBLISH
X-WR-CALNAME:CIGB
X-ORIGINAL-URL:https://www.cigb.edu.cu
X-WR-CALDESC:Eventos para CIGB
BEGIN:VTIMEZONE
TZID:UTC
BEGIN:STANDARD
TZOFFSETFROM:+0000
TZOFFSETTO:+0000
TZNAME:UTC
DTSTART:20220101T000000
END:STANDARD
END:VTIMEZONE
BEGIN:VEVENT
DTSTART;VALUE=DATE:20220503
DTEND;VALUE=DATE:20220508
DTSTAMP:20210822T224808
CREATED:20201202T190245Z
LAST-MODIFIED:20210818T164316Z
UID:119-1651536000-1651967999@www.cigb.edu.cu
SUMMARY:BioCubaAgro 2022
DESCRIPTION:De la investigación biotecnológica a los productos agrícolas. Se debatirán las investigaciones sobre biotecnología industrial y vegetal\, interacciones entre las plantas y el medio ambiente\, y tecnologías de semillas.
URL:https://www.cigb.edu.cu/event/biocubaagro2022/
LOCATION:Meliá Internacional Varadero\, Varadero\, Matanzas\, Cuba
CATEGORIES:Congreso Internacional
ATTACH;FMTTYPE=image/png:https://www.cigb.edu.cu/wp-content/uploads/2020/12/maiz-eventos-2.png
ORGANIZER;CN="Dr.%20Mario%20Pablo%20Estrada%20Garc%C3%ADa":MAILTO:mario.pablo@cigb.edu.cu
GEO:23.1586432;-81.2401447
END:VEVENT
END:VCALENDAR